Package: RNAdecay Version: 1.26.0 Command: F:\biocbuild\bbs-3.20-bioc\R\bin\R.exe CMD INSTALL RNAdecay StartedAt: 2025-02-03 15:43:47 -0500 (Mon, 03 Feb 2025) EndedAt: 2025-02-03 15:53:07 -0500 (Mon, 03 Feb 2025) EllapsedTime: 559.3 seconds RetCode: 0 Status: OK