##############################################################################
##############################################################################
###
### Running command:
###
###   /home/biocbuild/bbs-3.20-bioc/R/bin/R CMD INSTALL RNAdecay
###
##############################################################################
##############################################################################


* installing to library ‘/media/volume/teran2_disk/biocbuild/bbs-3.20-bioc/R/site-library’
* installing *source* package ‘RNAdecay’ ...
** using staged installation
** libs
/home/biocbuild/bbs-3.20-bioc/R/bin/Rscript --vanilla -e "TMB::compile('general_dExp_1sse.cpp',safebounds=FALSE,safeunload=FALSE)"
using C++ compiler: ‘g++ (Ubuntu 13.2.0-23ubuntu4) 13.2.0’
make[1]: Entering directory '/media/volume/teran2_disk/biocbuild/bbs-3.20-bioc/meat/RNAdecay/src'
g++ -std=gnu++17 -I"/home/biocbuild/bbs-3.20-bioc/R/include" -DNDEBUG -I"/media/volume/teran2_disk/biocbuild/bbs-3.20-bioc/R/site-library/TMB/include" -I"/media/volume/teran2_disk/biocbuild/bbs-3.20-bioc/R/site-library/RcppEigen/include"   -DTMB_EIGEN_DISABLE_WARNINGS   -DTMB_LIB_INIT=R_init_general_dExp_1sse  -DCPPAD_FRAMEWORK  -I/usr/local/include    -fpic  -g -O2  -Wall  -c general_dExp_1sse.cpp -o general_dExp_1sse.o
g++ -std=gnu++17 -shared -L/home/biocbuild/bbs-3.20-bioc/R/lib -L/usr/local/lib -o general_dExp_1sse.so general_dExp_1sse.o -L/home/biocbuild/bbs-3.20-bioc/R/lib -lR
make[1]: Leaving directory '/media/volume/teran2_disk/biocbuild/bbs-3.20-bioc/meat/RNAdecay/src'
[1] 0
/home/biocbuild/bbs-3.20-bioc/R/bin/Rscript --vanilla -e "TMB::compile('general_Exp_1sse.cpp',safebounds=FALSE,safeunload=FALSE)"
using C++ compiler: ‘g++ (Ubuntu 13.2.0-23ubuntu4) 13.2.0’
make[1]: Entering directory '/media/volume/teran2_disk/biocbuild/bbs-3.20-bioc/meat/RNAdecay/src'
g++ -std=gnu++17 -I"/home/biocbuild/bbs-3.20-bioc/R/include" -DNDEBUG -I"/media/volume/teran2_disk/biocbuild/bbs-3.20-bioc/R/site-library/TMB/include" -I"/media/volume/teran2_disk/biocbuild/bbs-3.20-bioc/R/site-library/RcppEigen/include"   -DTMB_EIGEN_DISABLE_WARNINGS   -DTMB_LIB_INIT=R_init_general_Exp_1sse  -DCPPAD_FRAMEWORK  -I/usr/local/include    -fpic  -g -O2  -Wall  -c general_Exp_1sse.cpp -o general_Exp_1sse.o
g++ -std=gnu++17 -shared -L/home/biocbuild/bbs-3.20-bioc/R/lib -L/usr/local/lib -o general_Exp_1sse.so general_Exp_1sse.o -L/home/biocbuild/bbs-3.20-bioc/R/lib -lR
make[1]: Leaving directory '/media/volume/teran2_disk/biocbuild/bbs-3.20-bioc/meat/RNAdecay/src'
[1] 0
/home/biocbuild/bbs-3.20-bioc/R/bin/Rscript --vanilla -e "TMB::compile('general_dExp_2sse.cpp',safebounds=FALSE,safeunload=FALSE)"
using C++ compiler: ‘g++ (Ubuntu 13.2.0-23ubuntu4) 13.2.0’
make[1]: Entering directory '/media/volume/teran2_disk/biocbuild/bbs-3.20-bioc/meat/RNAdecay/src'
g++ -std=gnu++17 -I"/home/biocbuild/bbs-3.20-bioc/R/include" -DNDEBUG -I"/media/volume/teran2_disk/biocbuild/bbs-3.20-bioc/R/site-library/TMB/include" -I"/media/volume/teran2_disk/biocbuild/bbs-3.20-bioc/R/site-library/RcppEigen/include"   -DTMB_EIGEN_DISABLE_WARNINGS   -DTMB_LIB_INIT=R_init_general_dExp_2sse  -DCPPAD_FRAMEWORK  -I/usr/local/include    -fpic  -g -O2  -Wall  -c general_dExp_2sse.cpp -o general_dExp_2sse.o
g++ -std=gnu++17 -shared -L/home/biocbuild/bbs-3.20-bioc/R/lib -L/usr/local/lib -o general_dExp_2sse.so general_dExp_2sse.o -L/home/biocbuild/bbs-3.20-bioc/R/lib -lR
make[1]: Leaving directory '/media/volume/teran2_disk/biocbuild/bbs-3.20-bioc/meat/RNAdecay/src'
[1] 0
/home/biocbuild/bbs-3.20-bioc/R/bin/Rscript --vanilla -e "TMB::compile('general_Exp_2sse.cpp',safebounds=FALSE,safeunload=FALSE)"
using C++ compiler: ‘g++ (Ubuntu 13.2.0-23ubuntu4) 13.2.0’
make[1]: Entering directory '/media/volume/teran2_disk/biocbuild/bbs-3.20-bioc/meat/RNAdecay/src'
g++ -std=gnu++17 -I"/home/biocbuild/bbs-3.20-bioc/R/include" -DNDEBUG -I"/media/volume/teran2_disk/biocbuild/bbs-3.20-bioc/R/site-library/TMB/include" -I"/media/volume/teran2_disk/biocbuild/bbs-3.20-bioc/R/site-library/RcppEigen/include"   -DTMB_EIGEN_DISABLE_WARNINGS   -DTMB_LIB_INIT=R_init_general_Exp_2sse  -DCPPAD_FRAMEWORK  -I/usr/local/include    -fpic  -g -O2  -Wall  -c general_Exp_2sse.cpp -o general_Exp_2sse.o
g++ -std=gnu++17 -shared -L/home/biocbuild/bbs-3.20-bioc/R/lib -L/usr/local/lib -o general_Exp_2sse.so general_Exp_2sse.o -L/home/biocbuild/bbs-3.20-bioc/R/lib -lR
make[1]: Leaving directory '/media/volume/teran2_disk/biocbuild/bbs-3.20-bioc/meat/RNAdecay/src'
[1] 0
/home/biocbuild/bbs-3.20-bioc/R/bin/Rscript --vanilla -e "TMB::compile('general_dExp_3sse.cpp',safebounds=FALSE,safeunload=FALSE)"
using C++ compiler: ‘g++ (Ubuntu 13.2.0-23ubuntu4) 13.2.0’
make[1]: Entering directory '/media/volume/teran2_disk/biocbuild/bbs-3.20-bioc/meat/RNAdecay/src'
g++ -std=gnu++17 -I"/home/biocbuild/bbs-3.20-bioc/R/include" -DNDEBUG -I"/media/volume/teran2_disk/biocbuild/bbs-3.20-bioc/R/site-library/TMB/include" -I"/media/volume/teran2_disk/biocbuild/bbs-3.20-bioc/R/site-library/RcppEigen/include"   -DTMB_EIGEN_DISABLE_WARNINGS   -DTMB_LIB_INIT=R_init_general_dExp_3sse  -DCPPAD_FRAMEWORK  -I/usr/local/include    -fpic  -g -O2  -Wall  -c general_dExp_3sse.cpp -o general_dExp_3sse.o
g++ -std=gnu++17 -shared -L/home/biocbuild/bbs-3.20-bioc/R/lib -L/usr/local/lib -o general_dExp_3sse.so general_dExp_3sse.o -L/home/biocbuild/bbs-3.20-bioc/R/lib -lR
make[1]: Leaving directory '/media/volume/teran2_disk/biocbuild/bbs-3.20-bioc/meat/RNAdecay/src'
[1] 0
/home/biocbuild/bbs-3.20-bioc/R/bin/Rscript --vanilla -e "TMB::compile('general_Exp_3sse.cpp',safebounds=FALSE,safeunload=FALSE)"
using C++ compiler: ‘g++ (Ubuntu 13.2.0-23ubuntu4) 13.2.0’
make[1]: Entering directory '/media/volume/teran2_disk/biocbuild/bbs-3.20-bioc/meat/RNAdecay/src'
g++ -std=gnu++17 -I"/home/biocbuild/bbs-3.20-bioc/R/include" -DNDEBUG -I"/media/volume/teran2_disk/biocbuild/bbs-3.20-bioc/R/site-library/TMB/include" -I"/media/volume/teran2_disk/biocbuild/bbs-3.20-bioc/R/site-library/RcppEigen/include"   -DTMB_EIGEN_DISABLE_WARNINGS   -DTMB_LIB_INIT=R_init_general_Exp_3sse  -DCPPAD_FRAMEWORK  -I/usr/local/include    -fpic  -g -O2  -Wall  -c general_Exp_3sse.cpp -o general_Exp_3sse.o
g++ -std=gnu++17 -shared -L/home/biocbuild/bbs-3.20-bioc/R/lib -L/usr/local/lib -o general_Exp_3sse.so general_Exp_3sse.o -L/home/biocbuild/bbs-3.20-bioc/R/lib -lR
make[1]: Leaving directory '/media/volume/teran2_disk/biocbuild/bbs-3.20-bioc/meat/RNAdecay/src'
[1] 0
/home/biocbuild/bbs-3.20-bioc/R/bin/Rscript --vanilla -e "TMB::compile('general_dExp_4sse.cpp',safebounds=FALSE,safeunload=FALSE)"
using C++ compiler: ‘g++ (Ubuntu 13.2.0-23ubuntu4) 13.2.0’
make[1]: Entering directory '/media/volume/teran2_disk/biocbuild/bbs-3.20-bioc/meat/RNAdecay/src'
g++ -std=gnu++17 -I"/home/biocbuild/bbs-3.20-bioc/R/include" -DNDEBUG -I"/media/volume/teran2_disk/biocbuild/bbs-3.20-bioc/R/site-library/TMB/include" -I"/media/volume/teran2_disk/biocbuild/bbs-3.20-bioc/R/site-library/RcppEigen/include"   -DTMB_EIGEN_DISABLE_WARNINGS   -DTMB_LIB_INIT=R_init_general_dExp_4sse  -DCPPAD_FRAMEWORK  -I/usr/local/include    -fpic  -g -O2  -Wall  -c general_dExp_4sse.cpp -o general_dExp_4sse.o
g++ -std=gnu++17 -shared -L/home/biocbuild/bbs-3.20-bioc/R/lib -L/usr/local/lib -o general_dExp_4sse.so general_dExp_4sse.o -L/home/biocbuild/bbs-3.20-bioc/R/lib -lR
make[1]: Leaving directory '/media/volume/teran2_disk/biocbuild/bbs-3.20-bioc/meat/RNAdecay/src'
[1] 0
/home/biocbuild/bbs-3.20-bioc/R/bin/Rscript --vanilla -e "TMB::compile('general_Exp_4sse.cpp',safebounds=FALSE,safeunload=FALSE)"
using C++ compiler: ‘g++ (Ubuntu 13.2.0-23ubuntu4) 13.2.0’
make[1]: Entering directory '/media/volume/teran2_disk/biocbuild/bbs-3.20-bioc/meat/RNAdecay/src'
g++ -std=gnu++17 -I"/home/biocbuild/bbs-3.20-bioc/R/include" -DNDEBUG -I"/media/volume/teran2_disk/biocbuild/bbs-3.20-bioc/R/site-library/TMB/include" -I"/media/volume/teran2_disk/biocbuild/bbs-3.20-bioc/R/site-library/RcppEigen/include"   -DTMB_EIGEN_DISABLE_WARNINGS   -DTMB_LIB_INIT=R_init_general_Exp_4sse  -DCPPAD_FRAMEWORK  -I/usr/local/include    -fpic  -g -O2  -Wall  -c general_Exp_4sse.cpp -o general_Exp_4sse.o
g++ -std=gnu++17 -shared -L/home/biocbuild/bbs-3.20-bioc/R/lib -L/usr/local/lib -o general_Exp_4sse.so general_Exp_4sse.o -L/home/biocbuild/bbs-3.20-bioc/R/lib -lR
make[1]: Leaving directory '/media/volume/teran2_disk/biocbuild/bbs-3.20-bioc/meat/RNAdecay/src'
[1] 0
installing to /media/volume/teran2_disk/biocbuild/bbs-3.20-bioc/R/site-library/00LOCK-RNAdecay/00new/RNAdecay/libs
** R
** data
*** moving datasets to lazyload DB
** inst
** byte-compile and prepare package for lazy loading
** help
*** installing help indices
** building package indices
** installing vignettes
** testing if installed package can be loaded from temporary location
** checking absolute paths in shared objects and dynamic libraries
** testing if installed package can be loaded from final location
** testing if installed package keeps a record of temporary installation path
* DONE (RNAdecay)