Package: RNAinteract Version: 1.54.0 Command: /Library/Frameworks/R.framework/Resources/bin/R CMD build --keep-empty-dirs --no-resave-data RNAinteract StartedAt: 2025-02-04 06:49:49 -0500 (Tue, 04 Feb 2025) EndedAt: 2025-02-04 06:49:50 -0500 (Tue, 04 Feb 2025) EllapsedTime: 1.1 seconds RetCode: 1 Status: ERROR PackageFile: None PackageFileSize: NA