Package: RNAinteract Version: 1.54.0 Command: /Library/Frameworks/R.framework/Resources/bin/R CMD INSTALL RNAinteract StartedAt: 2025-01-30 18:27:34 -0500 (Thu, 30 Jan 2025) EndedAt: 2025-01-30 18:27:34 -0500 (Thu, 30 Jan 2025) EllapsedTime: 0.3 seconds RetCode: 1 Status: ERROR