Package: RNAinteract Version: 1.54.0 Command: /home/biocbuild/bbs-3.20-bioc/R/bin/R CMD build --keep-empty-dirs --no-resave-data --md5 RNAinteract StartedAt: 2025-01-30 18:52:19 -0500 (Thu, 30 Jan 2025) EndedAt: 2025-01-30 18:52:20 -0500 (Thu, 30 Jan 2025) EllapsedTime: 1.0 seconds RetCode: 1 Status: ERROR PackageFile: None PackageFileSize: NA