Package: RNAinteract Version: 1.54.0 Command: /home/biocbuild/bbs-3.20-bioc/R/bin/R CMD INSTALL RNAinteract StartedAt: 2025-02-03 16:16:31 -0500 (Mon, 03 Feb 2025) EndedAt: 2025-02-03 16:16:32 -0500 (Mon, 03 Feb 2025) EllapsedTime: 0.3 seconds RetCode: 1 Status: ERROR