Package: RNAmodR.AlkAnilineSeq Version: 1.20.0 Command: /Library/Frameworks/R.framework/Resources/bin/R CMD INSTALL RNAmodR.AlkAnilineSeq StartedAt: 2025-02-03 16:10:20 -0500 (Mon, 03 Feb 2025) EndedAt: 2025-02-03 16:12:16 -0500 (Mon, 03 Feb 2025) EllapsedTime: 116.6 seconds RetCode: 0 Status: OK