Package: RNAmodR.AlkAnilineSeq Version: 1.20.0 Command: /home/biocbuild/bbs-3.20-bioc/R/bin/R CMD build --keep-empty-dirs --no-resave-data --md5 RNAmodR.AlkAnilineSeq StartedAt: 2025-02-03 19:02:07 -0500 (Mon, 03 Feb 2025) EndedAt: 2025-02-03 19:04:17 -0500 (Mon, 03 Feb 2025) EllapsedTime: 130.1 seconds RetCode: 0 Status: OK PackageFile: RNAmodR.AlkAnilineSeq_1.20.0.tar.gz PackageFileSize: 1.051 MiB