Package: RNAmodR.ML Version: 1.20.0 Command: rm -rf RNAmodR.ML.buildbin-libdir && mkdir RNAmodR.ML.buildbin-libdir && /Users/biocbuild/BBS/utils/build-universal.sh RNAmodR.ML_1.20.0.tar.gz /Library/Frameworks/R.framework/Resources/bin/R RNAmodR.ML.buildbin-libdir StartedAt: 2025-02-01 16:35:10 -0500 (Sat, 01 Feb 2025) EndedAt: 2025-02-01 16:36:25 -0500 (Sat, 01 Feb 2025) EllapsedTime: 74.5 seconds RetCode: 0 Status: OK PackageFile: RNAmodR.ML_1.20.0.tgz PackageFileSize: 1.991 MiB