Package: RNAmodR.ML Version: 1.20.0 Command: /Library/Frameworks/R.framework/Resources/bin/R CMD build --keep-empty-dirs --no-resave-data RNAmodR.ML StartedAt: 2025-01-31 06:40:18 -0500 (Fri, 31 Jan 2025) EndedAt: 2025-01-31 06:44:06 -0500 (Fri, 31 Jan 2025) EllapsedTime: 228.6 seconds RetCode: 0 Status: OK PackageFile: RNAmodR.ML_1.20.0.tar.gz PackageFileSize: 1.58 MiB