Package: RNAmodR.ML Version: 1.20.0 Command: /Library/Frameworks/R.framework/Resources/bin/R CMD check --install=check:RNAmodR.ML.install-out.txt --library=/Library/Frameworks/R.framework/Resources/library --no-vignettes --timings RNAmodR.ML_1.20.0.tar.gz StartedAt: 2025-02-01 07:04:24 -0500 (Sat, 01 Feb 2025) EndedAt: 2025-02-01 07:12:54 -0500 (Sat, 01 Feb 2025) EllapsedTime: 509.9 seconds RetCode: 0 Status: OK CheckDir: RNAmodR.ML.Rcheck Warnings: 0