Package: RNAmodR.ML Version: 1.20.0 Command: /Library/Frameworks/R.framework/Resources/bin/R CMD build --keep-empty-dirs --no-resave-data RNAmodR.ML StartedAt: 2025-01-30 22:19:38 -0500 (Thu, 30 Jan 2025) EndedAt: 2025-01-30 22:26:42 -0500 (Thu, 30 Jan 2025) EllapsedTime: 424.6 seconds RetCode: 0 Status: OK PackageFile: RNAmodR.ML_1.20.0.tar.gz PackageFileSize: 1.571 MiB