Package: RNAmodR.ML Version: 1.20.0 Command: /Library/Frameworks/R.framework/Resources/bin/R CMD check --install=check:RNAmodR.ML.install-out.txt --library=/Library/Frameworks/R.framework/Resources/library --no-vignettes --timings RNAmodR.ML_1.20.0.tar.gz StartedAt: 2025-01-31 09:05:35 -0500 (Fri, 31 Jan 2025) EndedAt: 2025-01-31 09:21:00 -0500 (Fri, 31 Jan 2025) EllapsedTime: 925.2 seconds RetCode: 0 Status: OK CheckDir: RNAmodR.ML.Rcheck Warnings: 0