Package: RNAmodR.ML Version: 1.20.0 Command: /Library/Frameworks/R.framework/Resources/bin/R CMD INSTALL RNAmodR.ML StartedAt: 2025-01-30 16:06:24 -0500 (Thu, 30 Jan 2025) EndedAt: 2025-01-30 16:08:27 -0500 (Thu, 30 Jan 2025) EllapsedTime: 123.7 seconds RetCode: 0 Status: OK