Package: RNAmodR.ML Version: 1.20.0 Command: F:\biocbuild\bbs-3.20-bioc\R\bin\R.exe CMD INSTALL RNAmodR.ML StartedAt: 2025-01-30 16:21:06 -0500 (Thu, 30 Jan 2025) EndedAt: 2025-01-30 16:22:17 -0500 (Thu, 30 Jan 2025) EllapsedTime: 71.5 seconds RetCode: 0 Status: OK