Package: RNAmodR.RiboMethSeq Version: 1.20.0 Command: rm -rf RNAmodR.RiboMethSeq.buildbin-libdir && mkdir RNAmodR.RiboMethSeq.buildbin-libdir && F:\biocbuild\bbs-3.20-bioc\R\bin\R.exe CMD INSTALL --build --library=RNAmodR.RiboMethSeq.buildbin-libdir RNAmodR.RiboMethSeq_1.20.0.tar.gz StartedAt: 2025-02-04 09:22:19 -0500 (Tue, 04 Feb 2025) EndedAt: 2025-02-04 09:24:06 -0500 (Tue, 04 Feb 2025) EllapsedTime: 106.7 seconds RetCode: 0 Status: OK PackageFile: RNAmodR.RiboMethSeq_1.20.0.zip PackageFileSize: 556.1 KiB