Package: RNAmodR.RiboMethSeq Version: 1.20.0 Command: /home/biocbuild/R/R/bin/R CMD INSTALL RNAmodR.RiboMethSeq StartedAt: 2025-02-03 21:01:20 -0000 (Mon, 03 Feb 2025) EndedAt: 2025-02-03 21:02:30 -0000 (Mon, 03 Feb 2025) EllapsedTime: 69.4 seconds RetCode: 0 Status: OK