Package: RNAmodR Version: 1.20.0 Command: /Library/Frameworks/R.framework/Resources/bin/R CMD INSTALL RNAmodR StartedAt: 2025-02-03 16:40:08 -0500 (Mon, 03 Feb 2025) EndedAt: 2025-02-03 16:41:30 -0500 (Mon, 03 Feb 2025) EllapsedTime: 82.3 seconds RetCode: 0 Status: OK