Package: RNAmodR Version: 1.20.0 Command: /Library/Frameworks/R.framework/Resources/bin/R CMD check --install=check:RNAmodR.install-out.txt --library=/Library/Frameworks/R.framework/Resources/library --no-vignettes --timings RNAmodR_1.20.0.tar.gz StartedAt: 2025-02-11 09:23:58 -0500 (Tue, 11 Feb 2025) EndedAt: 2025-02-11 09:43:18 -0500 (Tue, 11 Feb 2025) EllapsedTime: 1159.6 seconds RetCode: 0 Status: OK CheckDir: RNAmodR.Rcheck Warnings: 0