Package: RNAmodR Version: 1.20.0 Command: /home/biocbuild/bbs-3.20-bioc/R/bin/R CMD INSTALL RNAmodR StartedAt: 2025-02-03 15:43:47 -0500 (Mon, 03 Feb 2025) EndedAt: 2025-02-03 15:45:07 -0500 (Mon, 03 Feb 2025) EllapsedTime: 80.5 seconds RetCode: 0 Status: OK