Package: RNAmodR Version: 1.20.0 Command: /home/biocbuild/R/R/bin/R CMD build --keep-empty-dirs --no-resave-data RNAmodR StartedAt: 2025-02-11 01:59:58 -0000 (Tue, 11 Feb 2025) EndedAt: 2025-02-11 02:04:11 -0000 (Tue, 11 Feb 2025) EllapsedTime: 253.1 seconds RetCode: 0 Status: OK PackageFile: RNAmodR_1.20.0.tar.gz PackageFileSize: 1.432 MiB