Package: RNAmodR Version: 1.20.0 Command: /home/biocbuild/R/R/bin/R CMD INSTALL RNAmodR StartedAt: 2025-02-10 20:45:20 -0000 (Mon, 10 Feb 2025) EndedAt: 2025-02-10 20:46:53 -0000 (Mon, 10 Feb 2025) EllapsedTime: 93.3 seconds RetCode: 0 Status: OK