Package: RNAsense Version: 1.20.0 Command: /Library/Frameworks/R.framework/Resources/bin/R CMD build --keep-empty-dirs --no-resave-data RNAsense StartedAt: 2025-02-03 21:47:07 -0500 (Mon, 03 Feb 2025) EndedAt: 2025-02-03 21:57:07 -0500 (Mon, 03 Feb 2025) EllapsedTime: 600.5 seconds RetCode: 0 Status: OK PackageFile: RNAsense_1.20.0.tar.gz PackageFileSize: 911.3 KiB