Package: RNAsense Version: 1.20.0 Command: /Library/Frameworks/R.framework/Resources/bin/R CMD check --install=check:RNAsense.install-out.txt --library=/Library/Frameworks/R.framework/Resources/library --no-vignettes --timings RNAsense_1.20.0.tar.gz StartedAt: 2025-02-04 09:06:57 -0500 (Tue, 04 Feb 2025) EndedAt: 2025-02-04 09:33:17 -0500 (Tue, 04 Feb 2025) EllapsedTime: 1579.1 seconds RetCode: 0 Status: WARNINGS CheckDir: RNAsense.Rcheck Warnings: 1