Package: RNAsense Version: 1.20.0 Command: /Library/Frameworks/R.framework/Resources/bin/R CMD INSTALL RNAsense StartedAt: 2025-02-03 15:30:43 -0500 (Mon, 03 Feb 2025) EndedAt: 2025-02-03 15:31:31 -0500 (Mon, 03 Feb 2025) EllapsedTime: 47.9 seconds RetCode: 0 Status: OK