Package: RNAsense Version: 1.20.0 Command: /home/biocbuild/bbs-3.20-bioc/R/bin/R CMD check --install=check:RNAsense.install-out.txt --library=/home/biocbuild/bbs-3.20-bioc/R/site-library --timings RNAsense_1.20.0.tar.gz StartedAt: 2025-02-04 01:53:17 -0500 (Tue, 04 Feb 2025) EndedAt: 2025-02-04 02:07:02 -0500 (Tue, 04 Feb 2025) EllapsedTime: 824.9 seconds RetCode: 0 Status: WARNINGS CheckDir: RNAsense.Rcheck Warnings: 1