Package: RNAseqCovarImpute Version: 1.4.0 Command: /Library/Frameworks/R.framework/Resources/bin/R CMD build --keep-empty-dirs --no-resave-data RNAseqCovarImpute StartedAt: 2025-02-03 21:47:31 -0500 (Mon, 03 Feb 2025) EndedAt: 2025-02-03 21:49:23 -0500 (Mon, 03 Feb 2025) EllapsedTime: 112.4 seconds RetCode: 0 Status: OK PackageFile: RNAseqCovarImpute_1.4.0.tar.gz PackageFileSize: 767.6 KiB