Package: RNAseqCovarImpute Version: 1.4.0 Command: /Library/Frameworks/R.framework/Resources/bin/R CMD INSTALL RNAseqCovarImpute StartedAt: 2025-02-03 16:21:39 -0500 (Mon, 03 Feb 2025) EndedAt: 2025-02-03 16:22:01 -0500 (Mon, 03 Feb 2025) EllapsedTime: 22.2 seconds RetCode: 0 Status: OK