Package: RNAseqCovarImpute Version: 1.4.0 Command: /home/biocbuild/R/R/bin/R CMD build --keep-empty-dirs --no-resave-data RNAseqCovarImpute StartedAt: 2025-02-04 02:22:00 -0000 (Tue, 04 Feb 2025) EndedAt: 2025-02-04 02:23:39 -0000 (Tue, 04 Feb 2025) EllapsedTime: 99.1 seconds RetCode: 0 Status: OK PackageFile: RNAseqCovarImpute_1.4.0.tar.gz PackageFileSize: 816 KiB