Package: ROCpAI Version: 1.18.0 Command: /Library/Frameworks/R.framework/Resources/bin/R CMD INSTALL ROCpAI StartedAt: 2025-02-17 17:11:34 -0500 (Mon, 17 Feb 2025) EndedAt: 2025-02-17 17:11:57 -0500 (Mon, 17 Feb 2025) EllapsedTime: 23.4 seconds RetCode: 0 Status: OK