Package: ROCpAI
Version: 1.18.0
Command: /Library/Frameworks/R.framework/Resources/bin/R CMD build --keep-empty-dirs --no-resave-data ROCpAI
StartedAt: 2024-11-08 18:52:52 -0500 (Fri, 08 Nov 2024)
EndedAt: 2024-11-08 18:53:05 -0500 (Fri, 08 Nov 2024)
EllapsedTime: 13.2 seconds
RetCode: 0
Status: OK
PackageFile: ROCpAI_1.18.0.tar.gz
PackageFileSize: 427 <A href="http://en.wikipedia.org/wiki/KiB" target="_blank">KiB</A>