Package: ROSeq
Version: 1.17.0
Command: F:\biocbuild\bbs-3.20-bioc\R\bin\R.exe CMD check --no-multiarch --install=check:ROSeq.install-out.txt --library=F:\biocbuild\bbs-3.20-bioc\R\library --no-vignettes --timings ROSeq_1.17.0.tar.gz
StartedAt: 2024-06-10 08:37:35 -0400 (Mon, 10 Jun 2024)
EndedAt: 2024-06-10 08:45:37 -0400 (Mon, 10 Jun 2024)
EllapsedTime: 482.2 seconds
RetCode: 0
Status: WARNINGS
CheckDir: ROSeq.Rcheck
Warnings: 1