Package: ROSeq Version: 1.18.0 Command: rm -rf ROSeq.buildbin-libdir && mkdir ROSeq.buildbin-libdir && F:\biocbuild\bbs-3.20-bioc\R\bin\R.exe CMD INSTALL --build --library=ROSeq.buildbin-libdir ROSeq_1.18.0.tar.gz StartedAt: 2025-02-04 09:23:03 -0500 (Tue, 04 Feb 2025) EndedAt: 2025-02-04 09:23:18 -0500 (Tue, 04 Feb 2025) EllapsedTime: 15.2 seconds RetCode: 0 Status: OK PackageFile: ROSeq_1.18.0.zip PackageFileSize: 7.314 MiB