Package: ROSeq Version: 1.18.0 Command: chmod a+r ROSeq -R && F:\biocbuild\bbs-3.20-bioc\R\bin\R.exe CMD build --keep-empty-dirs --no-resave-data ROSeq StartedAt: 2025-02-03 21:46:16 -0500 (Mon, 03 Feb 2025) EndedAt: 2025-02-03 21:51:15 -0500 (Mon, 03 Feb 2025) EllapsedTime: 299.0 seconds RetCode: 0 Status: OK PackageFile: ROSeq_1.18.0.tar.gz PackageFileSize: 4.192 MiB