Package: ROSeq Version: 1.18.0 Command: F:\biocbuild\bbs-3.20-bioc\R\bin\R.exe CMD INSTALL ROSeq StartedAt: 2025-02-03 15:39:42 -0500 (Mon, 03 Feb 2025) EndedAt: 2025-02-03 15:40:02 -0500 (Mon, 03 Feb 2025) EllapsedTime: 19.5 seconds RetCode: 0 Status: OK