Package: ROSeq Version: 1.18.0 Command: /home/biocbuild/R/R/bin/R CMD check --install=check:ROSeq.install-out.txt --library=/home/biocbuild/R/R/site-library --no-vignettes --timings ROSeq_1.18.0.tar.gz StartedAt: 2025-02-04 10:34:13 -0000 (Tue, 04 Feb 2025) EndedAt: 2025-02-04 10:38:29 -0000 (Tue, 04 Feb 2025) EllapsedTime: 255.3 seconds RetCode: 0 Status: WARNINGS CheckDir: ROSeq.Rcheck Warnings: 1