Package: ROntoTools
Version: 2.34.0
Command: /Library/Frameworks/R.framework/Resources/bin/R CMD INSTALL ROntoTools
StartedAt: 2025-02-17 15:23:49 -0500 (Mon, 17 Feb 2025)
EndedAt: 2025-02-17 15:24:04 -0500 (Mon, 17 Feb 2025)
EllapsedTime: 14.9 seconds
RetCode: 0
Status: OK