Package: ROntoTools Version: 2.34.0 Command: /home/biocbuild/bbs-3.20-bioc/R/bin/R CMD build --keep-empty-dirs --no-resave-data --md5 ROntoTools StartedAt: 2025-02-03 19:04:06 -0500 (Mon, 03 Feb 2025) EndedAt: 2025-02-03 19:04:44 -0500 (Mon, 03 Feb 2025) EllapsedTime: 38.0 seconds RetCode: 0 Status: OK PackageFile: ROntoTools_2.34.0.tar.gz PackageFileSize: 1.488 MiB