Package: ROntoTools Version: 2.34.0 Command: /home/biocbuild/bbs-3.20-bioc/R/bin/R CMD INSTALL ROntoTools StartedAt: 2025-02-03 15:20:08 -0500 (Mon, 03 Feb 2025) EndedAt: 2025-02-03 15:20:19 -0500 (Mon, 03 Feb 2025) EllapsedTime: 11.8 seconds RetCode: 0 Status: OK