Package: RPA Version: 1.62.0 Command: /Library/Frameworks/R.framework/Resources/bin/R CMD check --install=check:RPA.install-out.txt --library=/Library/Frameworks/R.framework/Resources/library --no-vignettes --timings RPA_1.62.0.tar.gz StartedAt: 2025-02-01 07:19:52 -0500 (Sat, 01 Feb 2025) EndedAt: 2025-02-01 07:22:26 -0500 (Sat, 01 Feb 2025) EllapsedTime: 153.9 seconds RetCode: 0 Status: OK CheckDir: RPA.Rcheck Warnings: 0