Package: RPA Version: 1.62.0 Command: /Library/Frameworks/R.framework/Resources/bin/R CMD INSTALL RPA StartedAt: 2025-01-30 17:31:11 -0500 (Thu, 30 Jan 2025) EndedAt: 2025-01-30 17:31:35 -0500 (Thu, 30 Jan 2025) EllapsedTime: 23.7 seconds RetCode: 0 Status: OK