Package: RPA Version: 1.62.0 Command: rm -rf RPA.buildbin-libdir && mkdir RPA.buildbin-libdir && /Users/biocbuild/BBS/utils/build-universal.sh RPA_1.62.0.tar.gz /Library/Frameworks/R.framework/Resources/bin/R RPA.buildbin-libdir StartedAt: 2024-11-20 04:47:45 -0500 (Wed, 20 Nov 2024) EndedAt: 2024-11-20 04:48:17 -0500 (Wed, 20 Nov 2024) EllapsedTime: 32.3 seconds RetCode: 0 Status: OK PackageFile: RPA_1.62.0.tgz PackageFileSize: 387.6 KiB