Package: RPA Version: 1.62.0 Command: rm -rf RPA.buildbin-libdir && mkdir RPA.buildbin-libdir && /Users/biocbuild/BBS/utils/build-universal.sh RPA_1.62.0.tar.gz /Library/Frameworks/R.framework/Resources/bin/R RPA.buildbin-libdir StartedAt: 2025-01-31 13:34:32 -0500 (Fri, 31 Jan 2025) EndedAt: 2025-01-31 13:35:18 -0500 (Fri, 31 Jan 2025) EllapsedTime: 46.5 seconds RetCode: 0 Status: OK PackageFile: RPA_1.62.0.tgz PackageFileSize: 388 KiB