Package: RPA Version: 1.62.0 Command: /Library/Frameworks/R.framework/Resources/bin/R CMD build --keep-empty-dirs --no-resave-data RPA StartedAt: 2025-01-30 22:23:03 -0500 (Thu, 30 Jan 2025) EndedAt: 2025-01-30 22:23:56 -0500 (Thu, 30 Jan 2025) EllapsedTime: 53.1 seconds RetCode: 0 Status: OK PackageFile: RPA_1.62.0.tar.gz PackageFileSize: 260.5 KiB