Package: RPA Version: 1.62.0 Command: /Library/Frameworks/R.framework/Resources/bin/R CMD INSTALL RPA StartedAt: 2025-01-30 16:24:18 -0500 (Thu, 30 Jan 2025) EndedAt: 2025-01-30 16:25:03 -0500 (Thu, 30 Jan 2025) EllapsedTime: 45.0 seconds RetCode: 0 Status: OK