Package: RPA Version: 1.62.0 Command: rm -rf RPA.buildbin-libdir && mkdir RPA.buildbin-libdir && F:\biocbuild\bbs-3.20-bioc\R\bin\R.exe CMD INSTALL --build --library=RPA.buildbin-libdir RPA_1.62.0.tar.gz StartedAt: 2025-01-31 09:29:01 -0500 (Fri, 31 Jan 2025) EndedAt: 2025-01-31 09:29:33 -0500 (Fri, 31 Jan 2025) EllapsedTime: 31.5 seconds RetCode: 0 Status: OK PackageFile: RPA_1.62.0.zip PackageFileSize: 393.8 KiB