Package: RPA Version: 1.62.0 Command: /home/biocbuild/R/R/bin/R CMD INSTALL RPA StartedAt: 2025-01-30 20:55:10 -0000 (Thu, 30 Jan 2025) EndedAt: 2025-01-30 20:55:35 -0000 (Thu, 30 Jan 2025) EllapsedTime: 25.5 seconds RetCode: 0 Status: OK