Package: RProtoBufLib Version: 2.18.0 Command: rm -rf RProtoBufLib.buildbin-libdir && mkdir RProtoBufLib.buildbin-libdir && /Users/biocbuild/BBS/utils/build-universal.sh RProtoBufLib_2.18.0.tar.gz /Library/Frameworks/R.framework/Resources/bin/R RProtoBufLib.buildbin-libdir StartedAt: 2025-02-01 16:37:27 -0500 (Sat, 01 Feb 2025) EndedAt: 2025-02-01 16:42:46 -0500 (Sat, 01 Feb 2025) EllapsedTime: 319.3 seconds RetCode: 0 Status: OK PackageFile: RProtoBufLib_2.18.0.tgz PackageFileSize: 3.157 MiB