Package: RProtoBufLib Version: 2.18.0 Command: /Library/Frameworks/R.framework/Resources/bin/R CMD INSTALL RProtoBufLib StartedAt: 2025-01-30 15:02:50 -0500 (Thu, 30 Jan 2025) EndedAt: 2025-01-30 15:07:03 -0500 (Thu, 30 Jan 2025) EllapsedTime: 253.0 seconds RetCode: 0 Status: OK