Package: RProtoBufLib Version: 2.18.0 Command: rm -rf RProtoBufLib.buildbin-libdir && mkdir RProtoBufLib.buildbin-libdir && /Users/biocbuild/BBS/utils/build-universal.sh RProtoBufLib_2.18.0.tar.gz /Library/Frameworks/R.framework/Resources/bin/R RProtoBufLib.buildbin-libdir StartedAt: 2025-01-31 13:34:36 -0500 (Fri, 31 Jan 2025) EndedAt: 2025-01-31 13:44:37 -0500 (Fri, 31 Jan 2025) EllapsedTime: 600.8 seconds RetCode: 0 Status: OK PackageFile: RProtoBufLib_2.18.0.tgz PackageFileSize: 3.461 MiB